BEGIN:VCALENDAR
VERSION:2.0
PRODID:-//Haus Linden - ECPv6.15.17.1//NONSGML v1.0//EN
CALSCALE:GREGORIAN
METHOD:PUBLISH
X-ORIGINAL-URL:https://haus-linden.de
X-WR-CALDESC:Veranstaltungen für Haus Linden
REFRESH-INTERVAL;VALUE=DURATION:PT1H
X-Robots-Tag:noindex
X-PUBLISHED-TTL:PT1H
BEGIN:VTIMEZONE
TZID:Europe/Berlin
BEGIN:DAYLIGHT
TZOFFSETFROM:+0100
TZOFFSETTO:+0200
TZNAME:CEST
DTSTART:20250330T010000
END:DAYLIGHT
BEGIN:STANDARD
TZOFFSETFROM:+0200
TZOFFSETTO:+0100
TZNAME:CET
DTSTART:20251026T010000
END:STANDARD
BEGIN:DAYLIGHT
TZOFFSETFROM:+0100
TZOFFSETTO:+0200
TZNAME:CEST
DTSTART:20260329T010000
END:DAYLIGHT
BEGIN:STANDARD
TZOFFSETFROM:+0200
TZOFFSETTO:+0100
TZNAME:CET
DTSTART:20261025T010000
END:STANDARD
BEGIN:DAYLIGHT
TZOFFSETFROM:+0100
TZOFFSETTO:+0200
TZNAME:CEST
DTSTART:20270328T010000
END:DAYLIGHT
BEGIN:STANDARD
TZOFFSETFROM:+0200
TZOFFSETTO:+0100
TZNAME:CET
DTSTART:20271031T010000
END:STANDARD
END:VTIMEZONE
BEGIN:VEVENT
DTSTART;VALUE=DATE:20260607
DTEND;VALUE=DATE:20260614
DTSTAMP:20260423T151442
CREATED:20260108T145949Z
LAST-MODIFIED:20260108T151119Z
UID:4439-1780790400-1781395199@haus-linden.de
SUMMARY:Wikinger Reisen - Wandern und Relaxen auf der Halbinsel Fischland-Darß-Zingst mit Stefan Heyder
DESCRIPTION:Steinfreie Strände\, Küstenwälder und Dünenlandschaften\, geschützte Moore\, weite Wiesen und verschilfte Boddenufer – das ist die Halbinsel Fischland-Darß-Zingst. Das Bild der Umgebung wird geprägt von alten Bauernhöfen und Katen sowie historischen Kapitänshäusern aus der Zeit der großen Segler. Dort laufen noch heute die Fischerboote aus und lassen die Herzen der Segelfreunde höher schlagen. Entdecke mit uns auf interessanten Wanderungen die vielfältige und abwechslungsreiche Ostseelandschaft.
URL:https://haus-linden.de/kunst_gesundheit_einzelveranstaltung/wikinger-reisen-wandern-und-relaxen-auf-der-halbinsel-fischland-darss-zingst/
LOCATION:Haus Linden\, Gemeindeplatz 3\, Prerow\, 18375\, Germany
CATEGORIES:Wikingerreisen
ATTACH;FMTTYPE=image/png:https://haus-linden.de/wp-content/uploads/2026/01/Bildschirmfoto-2025-09-24-um-22.49.48.png
END:VEVENT
END:VCALENDAR