BEGIN:VCALENDAR
VERSION:2.0
PRODID:-//Haus Linden - ECPv6.15.17.1//NONSGML v1.0//EN
CALSCALE:GREGORIAN
METHOD:PUBLISH
X-WR-CALNAME:Haus Linden
X-ORIGINAL-URL:https://haus-linden.de
X-WR-CALDESC:Veranstaltungen für Haus Linden
REFRESH-INTERVAL;VALUE=DURATION:PT1H
X-Robots-Tag:noindex
X-PUBLISHED-TTL:PT1H
BEGIN:VTIMEZONE
TZID:Europe/Berlin
BEGIN:DAYLIGHT
TZOFFSETFROM:+0100
TZOFFSETTO:+0200
TZNAME:CEST
DTSTART:20250330T010000
END:DAYLIGHT
BEGIN:STANDARD
TZOFFSETFROM:+0200
TZOFFSETTO:+0100
TZNAME:CET
DTSTART:20251026T010000
END:STANDARD
BEGIN:DAYLIGHT
TZOFFSETFROM:+0100
TZOFFSETTO:+0200
TZNAME:CEST
DTSTART:20260329T010000
END:DAYLIGHT
BEGIN:STANDARD
TZOFFSETFROM:+0200
TZOFFSETTO:+0100
TZNAME:CET
DTSTART:20261025T010000
END:STANDARD
BEGIN:DAYLIGHT
TZOFFSETFROM:+0100
TZOFFSETTO:+0200
TZNAME:CEST
DTSTART:20270328T010000
END:DAYLIGHT
BEGIN:STANDARD
TZOFFSETFROM:+0200
TZOFFSETTO:+0100
TZNAME:CET
DTSTART:20271031T010000
END:STANDARD
END:VTIMEZONE
BEGIN:VEVENT
DTSTART;VALUE=DATE:20260906
DTEND;VALUE=DATE:20260913
DTSTAMP:20260423T122633
CREATED:20260108T082850Z
LAST-MODIFIED:20260120T144350Z
UID:4420-1788652800-1789257599@haus-linden.de
SUMMARY:Artistravel Kunstkurs: Faszination expressives Portrait oder Küstenlandschaften in Aquarell mit Editha Tarantino
DESCRIPTION:Seit 2009 lädt artistravel zu kreativen Auszeiten ein – malen\, zeichnen\, sketchen oder fotografieren\, ganz nach Lust und Laune. In kleinen Gruppen begleiten erfahrene Dozenten jeden Schritt\, an inspirierenden Orten in Deutschland und Europa. Ob Atelier oder Pleinair: Hier entstehen neue Ideen\, schöne Werke und unvergessliche Momente weit weg vom Alltag. Kreativität\, Austausch und Entspannung sind inklusive – die perfekte Auszeit für alle\, die ihre Leidenschaft leben wollen.
URL:https://haus-linden.de/kunst_gesundheit_einzelveranstaltung/artistravel-kunstkurs-faszination-expressives-portrait-mit-editha-tarantino/
LOCATION:Haus Linden\, Gemeindeplatz 3\, Prerow\, 18375\, Germany
CATEGORIES:Kunstkurse
ATTACH;FMTTYPE=image/webp:https://haus-linden.de/wp-content/uploads/2026/01/Faszination-Expressives-Portrait.webp
END:VEVENT
BEGIN:VEVENT
DTSTART;VALUE=DATE:20260913
DTEND;VALUE=DATE:20260920
DTSTAMP:20260423T122633
CREATED:20260108T083208Z
LAST-MODIFIED:20260110T111217Z
UID:4422-1789257600-1789862399@haus-linden.de
SUMMARY:Artistravel Kunstkurs: Küstenlandschaften in Aquarell mit Editha Tarantino
DESCRIPTION:Seit 2009 lädt artistravel zu kreativen Auszeiten ein – malen\, zeichnen\, sketchen oder fotografieren\, ganz nach Lust und Laune. In kleinen Gruppen begleiten erfahrene Dozenten jeden Schritt\, an inspirierenden Orten in Deutschland und Europa. Ob Atelier oder Pleinair: Hier entstehen neue Ideen\, schöne Werke und unvergessliche Momente weit weg vom Alltag. Kreativität\, Austausch und Entspannung sind inklusive – die perfekte Auszeit für alle\, die ihre Leidenschaft leben wollen.
URL:https://haus-linden.de/kunst_gesundheit_einzelveranstaltung/artistravel-kunstkurs-kuestenlandschafen-in-aquarell-mit-editha-tarantino/
LOCATION:Haus Linden\, Gemeindeplatz 3\, Prerow\, 18375\, Germany
CATEGORIES:Kunstkurse
ATTACH;FMTTYPE=image/webp:https://haus-linden.de/wp-content/uploads/2026/01/Kuestenlandschaften-in-Aquarell.webp
END:VEVENT
END:VCALENDAR