BEGIN:VCALENDAR
VERSION:2.0
PRODID:-//Haus Linden - ECPv6.15.17.1//NONSGML v1.0//EN
CALSCALE:GREGORIAN
METHOD:PUBLISH
X-WR-CALNAME:Haus Linden
X-ORIGINAL-URL:https://haus-linden.de
X-WR-CALDESC:Veranstaltungen für Haus Linden
REFRESH-INTERVAL;VALUE=DURATION:PT1H
X-Robots-Tag:noindex
X-PUBLISHED-TTL:PT1H
BEGIN:VTIMEZONE
TZID:Europe/Berlin
BEGIN:DAYLIGHT
TZOFFSETFROM:+0100
TZOFFSETTO:+0200
TZNAME:CEST
DTSTART:20250330T010000
END:DAYLIGHT
BEGIN:STANDARD
TZOFFSETFROM:+0200
TZOFFSETTO:+0100
TZNAME:CET
DTSTART:20251026T010000
END:STANDARD
BEGIN:DAYLIGHT
TZOFFSETFROM:+0100
TZOFFSETTO:+0200
TZNAME:CEST
DTSTART:20260329T010000
END:DAYLIGHT
BEGIN:STANDARD
TZOFFSETFROM:+0200
TZOFFSETTO:+0100
TZNAME:CET
DTSTART:20261025T010000
END:STANDARD
BEGIN:DAYLIGHT
TZOFFSETFROM:+0100
TZOFFSETTO:+0200
TZNAME:CEST
DTSTART:20270328T010000
END:DAYLIGHT
BEGIN:STANDARD
TZOFFSETFROM:+0200
TZOFFSETTO:+0100
TZNAME:CET
DTSTART:20271031T010000
END:STANDARD
BEGIN:DAYLIGHT
TZOFFSETFROM:+0100
TZOFFSETTO:+0200
TZNAME:CEST
DTSTART:20280326T010000
END:DAYLIGHT
BEGIN:STANDARD
TZOFFSETFROM:+0200
TZOFFSETTO:+0100
TZNAME:CET
DTSTART:20281029T010000
END:STANDARD
END:VTIMEZONE
BEGIN:VEVENT
DTSTART;VALUE=DATE:20260816
DTEND;VALUE=DATE:20260823
DTSTAMP:20260422T165122
CREATED:20260107T144323Z
LAST-MODIFIED:20260110T111450Z
UID:4414-1786838400-1787443199@haus-linden.de
SUMMARY:Artistravel Kunstkurs - Mit dem Pinsel unterwegs - Lebendige Aquarelle mit Sabine Nögel
DESCRIPTION:Seit 2009 lädt artistravel zu kreativen Auszeiten ein – malen\, zeichnen\, sketchen oder fotografieren\, ganz nach Lust und Laune. In kleinen Gruppen begleiten erfahrene Dozenten jeden Schritt\, an inspirierenden Orten in Deutschland und Europa. Ob Atelier oder Pleinair: Hier entstehen neue Ideen\, schöne Werke und unvergessliche Momente weit weg vom Alltag. Kreativität\, Austausch und Entspannung sind inklusive – die perfekte Auszeit für alle\, die ihre Leidenschaft leben wollen.
URL:https://haus-linden.de/kunst_gesundheit_einzelveranstaltung/artistravel-kunstkurs-mit-dem-pinsel-unterwegs-lebendige-aquarelle-mit-sabine-noegel/
LOCATION:Haus Linden\, Gemeindeplatz 3\, Prerow\, 18375\, Germany
CATEGORIES:Kunstkurse
ATTACH;FMTTYPE=image/webp:https://haus-linden.de/wp-content/uploads/2026/01/Mit-dem-Pinsel-unterwegs.webp
END:VEVENT
BEGIN:VEVENT
DTSTART;VALUE=DATE:20260823
DTEND;VALUE=DATE:20260830
DTSTAMP:20260422T165122
CREATED:20260107T144956Z
LAST-MODIFIED:20260110T111419Z
UID:4416-1787443200-1788047999@haus-linden.de
SUMMARY:Artistravel Kunstkurs - Vom Motiv zum fertigen Bild - malerisches Prerow mit Franz Schwarz
DESCRIPTION:Seit 2009 lädt artistravel zu kreativen Auszeiten ein – malen\, zeichnen\, sketchen oder fotografieren\, ganz nach Lust und Laune. In kleinen Gruppen begleiten erfahrene Dozenten jeden Schritt\, an inspirierenden Orten in Deutschland und Europa. Ob Atelier oder Pleinair: Hier entstehen neue Ideen\, schöne Werke und unvergessliche Momente weit weg vom Alltag. Kreativität\, Austausch und Entspannung sind inklusive – die perfekte Auszeit für alle\, die ihre Leidenschaft leben wollen.
URL:https://haus-linden.de/kunst_gesundheit_einzelveranstaltung/artistravel-kunstkurs-vom-motiv-zum-fertigen-bild-malerisches-prerow-mit-franz-schwarz/
LOCATION:Haus Linden\, Gemeindeplatz 3\, Prerow\, 18375\, Germany
CATEGORIES:Kunstkurse
ATTACH;FMTTYPE=image/webp:https://haus-linden.de/wp-content/uploads/2026/01/Vom-Motiv-zum-fertigen-Bild.webp
END:VEVENT
BEGIN:VEVENT
DTSTART;VALUE=DATE:20260823
DTEND;VALUE=DATE:20260830
DTSTAMP:20260422T165122
CREATED:20260107T145327Z
LAST-MODIFIED:20260110T111342Z
UID:4418-1787443200-1788047999@haus-linden.de
SUMMARY:Artistravel Kunstkurs - Künstlerische Landschaftsfotografie am Darß mit Anja Artzt
DESCRIPTION:Seit 2009 lädt artistravel zu kreativen Auszeiten ein – malen\, zeichnen\, sketchen oder fotografieren\, ganz nach Lust und Laune. In kleinen Gruppen begleiten erfahrene Dozenten jeden Schritt\, an inspirierenden Orten in Deutschland und Europa. Ob Atelier oder Pleinair: Hier entstehen neue Ideen\, schöne Werke und unvergessliche Momente weit weg vom Alltag. Kreativität\, Austausch und Entspannung sind inklusive – die perfekte Auszeit für alle\, die ihre Leidenschaft leben wollen.
URL:https://haus-linden.de/kunst_gesundheit_einzelveranstaltung/artistravel-kunstkurs-kuenstlerische-landschaftsfotografie-am-darss-mit-anja-artzt/
LOCATION:Haus Linden\, Gemeindeplatz 3\, Prerow\, 18375\, Germany
CATEGORIES:Kunstkurse
ATTACH;FMTTYPE=image/webp:https://haus-linden.de/wp-content/uploads/2026/01/Kuenstlerische-Landschaftsfotografie.webp
END:VEVENT
BEGIN:VEVENT
DTSTART;VALUE=DATE:20260906
DTEND;VALUE=DATE:20260913
DTSTAMP:20260422T165122
CREATED:20260108T082850Z
LAST-MODIFIED:20260120T144350Z
UID:4420-1788652800-1789257599@haus-linden.de
SUMMARY:Artistravel Kunstkurs: Faszination expressives Portrait oder Küstenlandschaften in Aquarell mit Editha Tarantino
DESCRIPTION:Seit 2009 lädt artistravel zu kreativen Auszeiten ein – malen\, zeichnen\, sketchen oder fotografieren\, ganz nach Lust und Laune. In kleinen Gruppen begleiten erfahrene Dozenten jeden Schritt\, an inspirierenden Orten in Deutschland und Europa. Ob Atelier oder Pleinair: Hier entstehen neue Ideen\, schöne Werke und unvergessliche Momente weit weg vom Alltag. Kreativität\, Austausch und Entspannung sind inklusive – die perfekte Auszeit für alle\, die ihre Leidenschaft leben wollen.
URL:https://haus-linden.de/kunst_gesundheit_einzelveranstaltung/artistravel-kunstkurs-faszination-expressives-portrait-mit-editha-tarantino/
LOCATION:Haus Linden\, Gemeindeplatz 3\, Prerow\, 18375\, Germany
CATEGORIES:Kunstkurse
ATTACH;FMTTYPE=image/webp:https://haus-linden.de/wp-content/uploads/2026/01/Faszination-Expressives-Portrait.webp
END:VEVENT
BEGIN:VEVENT
DTSTART;VALUE=DATE:20260913
DTEND;VALUE=DATE:20260920
DTSTAMP:20260422T165122
CREATED:20260108T083208Z
LAST-MODIFIED:20260110T111217Z
UID:4422-1789257600-1789862399@haus-linden.de
SUMMARY:Artistravel Kunstkurs: Küstenlandschaften in Aquarell mit Editha Tarantino
DESCRIPTION:Seit 2009 lädt artistravel zu kreativen Auszeiten ein – malen\, zeichnen\, sketchen oder fotografieren\, ganz nach Lust und Laune. In kleinen Gruppen begleiten erfahrene Dozenten jeden Schritt\, an inspirierenden Orten in Deutschland und Europa. Ob Atelier oder Pleinair: Hier entstehen neue Ideen\, schöne Werke und unvergessliche Momente weit weg vom Alltag. Kreativität\, Austausch und Entspannung sind inklusive – die perfekte Auszeit für alle\, die ihre Leidenschaft leben wollen.
URL:https://haus-linden.de/kunst_gesundheit_einzelveranstaltung/artistravel-kunstkurs-kuestenlandschafen-in-aquarell-mit-editha-tarantino/
LOCATION:Haus Linden\, Gemeindeplatz 3\, Prerow\, 18375\, Germany
CATEGORIES:Kunstkurse
ATTACH;FMTTYPE=image/webp:https://haus-linden.de/wp-content/uploads/2026/01/Kuestenlandschaften-in-Aquarell.webp
END:VEVENT
BEGIN:VEVENT
DTSTART;VALUE=DATE:20261004
DTEND;VALUE=DATE:20261011
DTSTAMP:20260422T165122
CREATED:20260108T084013Z
LAST-MODIFIED:20260110T111108Z
UID:4426-1791072000-1791676799@haus-linden.de
SUMMARY:Artistravel Kunstkurs: Landschaftsmalerei - auf den Spuren von Feininger mit Bernd Finkenwirth
DESCRIPTION:Seit 2009 lädt artistravel zu kreativen Auszeiten ein – malen\, zeichnen\, sketchen oder fotografieren\, ganz nach Lust und Laune. In kleinen Gruppen begleiten erfahrene Dozenten jeden Schritt\, an inspirierenden Orten in Deutschland und Europa. Ob Atelier oder Pleinair: Hier entstehen neue Ideen\, schöne Werke und unvergessliche Momente weit weg vom Alltag. Kreativität\, Austausch und Entspannung sind inklusive – die perfekte Auszeit für alle\, die ihre Leidenschaft leben wollen.
URL:https://haus-linden.de/kunst_gesundheit_einzelveranstaltung/artistravel-kunstkurs-landschaftsmalerei-auf-den-spuren-von-feininger-mit-bernd-finkenwirth/
LOCATION:Haus Linden\, Gemeindeplatz 3\, Prerow\, 18375\, Germany
CATEGORIES:Kunstkurse
ATTACH;FMTTYPE=image/webp:https://haus-linden.de/wp-content/uploads/2026/01/Landschaftsmalerei-auf-den-Spuren-von-Feininger.webp
END:VEVENT
BEGIN:VEVENT
DTSTART;VALUE=DATE:20261025
DTEND;VALUE=DATE:20261101
DTSTAMP:20260422T165122
CREATED:20260108T084329Z
LAST-MODIFIED:20260110T111025Z
UID:4428-1792886400-1793491199@haus-linden.de
SUMMARY:Artistravel Kunstkurs - Abstrakte Farblandschaften mit Susanne Maurer
DESCRIPTION:Seit 2009 lädt artistravel zu kreativen Auszeiten ein – malen\, zeichnen\, sketchen oder fotografieren\, ganz nach Lust und Laune. In kleinen Gruppen begleiten erfahrene Dozenten jeden Schritt\, an inspirierenden Orten in Deutschland und Europa. Ob Atelier oder Pleinair: Hier entstehen neue Ideen\, schöne Werke und unvergessliche Momente weit weg vom Alltag. Kreativität\, Austausch und Entspannung sind inklusive – die perfekte Auszeit für alle\, die ihre Leidenschaft leben wollen.
URL:https://haus-linden.de/kunst_gesundheit_einzelveranstaltung/artistravel-kunstkurs-abstrakte-farblandschaften-mit-susanne-maurer/
LOCATION:Haus Linden\, Gemeindeplatz 3\, Prerow\, 18375\, Germany
CATEGORIES:Kunstkurse
ATTACH;FMTTYPE=image/webp:https://haus-linden.de/wp-content/uploads/2026/01/Abstrakte-Farblandschaften.webp
END:VEVENT
BEGIN:VEVENT
DTSTART;VALUE=DATE:20261227
DTEND;VALUE=DATE:20270103
DTSTAMP:20260422T165122
CREATED:20260108T085144Z
LAST-MODIFIED:20260110T110836Z
UID:4430-1798329600-1798934399@haus-linden.de
SUMMARY:Artistravel Kunstkurs - Das atmosphärische Aquarell mit Marika Fünffinger
DESCRIPTION:Seit 2009 lädt artistravel zu kreativen Auszeiten ein – malen\, zeichnen\, sketchen oder fotografieren\, ganz nach Lust und Laune. In kleinen Gruppen begleiten erfahrene Dozenten jeden Schritt\, an inspirierenden Orten in Deutschland und Europa. Ob Atelier oder Pleinair: Hier entstehen neue Ideen\, schöne Werke und unvergessliche Momente weit weg vom Alltag. Kreativität\, Austausch und Entspannung sind inklusive – die perfekte Auszeit für alle\, die ihre Leidenschaft leben wollen.
URL:https://haus-linden.de/kunst_gesundheit_einzelveranstaltung/artistravel-kunstkurs-das-atmosphaerische-aquarell-mit-marika-fuenffinger/
LOCATION:Haus Linden\, Gemeindeplatz 3\, Prerow\, 18375\, Germany
CATEGORIES:Kunstkurse
ATTACH;FMTTYPE=image/webp:https://haus-linden.de/wp-content/uploads/2026/01/Das-Atmosphaerische-Aquarell.webp
END:VEVENT
END:VCALENDAR